BEGIN:VCALENDAR
VERSION:2.0
PRODID:-//Daisy Black - ECPv6.15.20//NONSGML v1.0//EN
CALSCALE:GREGORIAN
METHOD:PUBLISH
X-WR-CALNAME:Daisy Black
X-ORIGINAL-URL:https://daisyblack.uk
X-WR-CALDESC:Events for Daisy Black
REFRESH-INTERVAL;VALUE=DURATION:PT1H
X-Robots-Tag:noindex
X-PUBLISHED-TTL:PT1H
BEGIN:VTIMEZONE
TZID:UTC
BEGIN:STANDARD
TZOFFSETFROM:+0000
TZOFFSETTO:+0000
TZNAME:UTC
DTSTART:20230101T000000
END:STANDARD
END:VTIMEZONE
BEGIN:VEVENT
DTSTART;TZID=UTC:20241113T190000
DTEND;TZID=UTC:20241113T210000
DTSTAMP:20260424T065017
CREATED:20240915T132855Z
LAST-MODIFIED:20240915T132855Z
UID:261-1731524400-1731531600@daisyblack.uk
SUMMARY:Death's Grin: A Night of Shared Stories with Daisy Black and Jason Buck
DESCRIPTION:Storytellers Daisy Black and Jason Buck dig into their repertoire of shadows to bring you light and dark stories about redemption\, grief and laughter in the face of Death’s grin. With one teller’s tales setting another teller thinking\, this performance weaves a rich thread of tales that\, like an individual’s life\, will never be told in the same way again. The audience will gain a good understanding of how people in the past conceptualised death\, wove stories around it and coped with grief and loss through humour\, faith and storytelling. \nThis event is sponsored by the Being Human Festival and the University of Wolverhampton. \nBook tickets: https://www.eventbrite.co.uk/e/being-human-festival-deaths-grin-a-night-of-shared-stories-tickets-993204670907
URL:https://daisyblack.uk/event/deaths-grin-a-night-of-shared-stories-with-daisy-black-and-jason-buck/
LOCATION:Wolverhampton Art Gallery\, Lichfield St\, Wolverhampton\, WV1 1DU
END:VEVENT
END:VCALENDAR