BEGIN:VCALENDAR
VERSION:2.0
PRODID:-//Daisy Black - ECPv6.15.20//NONSGML v1.0//EN
CALSCALE:GREGORIAN
METHOD:PUBLISH
X-WR-CALNAME:Daisy Black
X-ORIGINAL-URL:https://daisyblack.uk
X-WR-CALDESC:Events for Daisy Black
REFRESH-INTERVAL;VALUE=DURATION:PT1H
X-Robots-Tag:noindex
X-PUBLISHED-TTL:PT1H
BEGIN:VTIMEZONE
TZID:UTC
BEGIN:STANDARD
TZOFFSETFROM:+0000
TZOFFSETTO:+0000
TZNAME:UTC
DTSTART:20170101T000000
END:STANDARD
END:VTIMEZONE
BEGIN:VEVENT
DTSTART;TZID=UTC:20180127T133000
DTEND;TZID=UTC:20180127T235900
DTSTAMP:20260426T040349
CREATED:20171201T191706Z
LAST-MODIFIED:20180115T154944Z
UID:123-1517059800-1517097540@daisyblack.uk
SUMMARY:Broken Shells at Wolverhampton Literature Festival
DESCRIPTION:BROKEN SHELLS: A MEDIEVAL SEA STORY \nBantock House Museum\, Wolverhampton \nSat 27th January – 1.30pm \n60mins \n£8 / £6 concessions – Available online from here\, tel 0870 320 7000 or in person from Wolverhampton Art Gallery. \n——————————————— \nIn a little room in Rome\, a bride sits at her window.  The deep windowsill is covered with litter – a scrap of dried seaweed\, the jagged edge of a pink scallop\, scattered grains of sand. Her eyes are fixed on the ocean outside. \nShe has always loved the sea. \nBut now the day has come.  Yesterday\, she wept.  She wept to be sent away from friends who care for her\, sent to be a foreigner in strange land and bound to a man she doesn’t know. \nShe wept because\, of course\, everyone knows that all husbands are good. \nAnd the waves rush up\, and the stars rotate\, and the waves pull back again. \n——————————————— \nStoryteller and academic Daisy Black brings to life Chaucer’s Man of Law’s Tale – a tale of love\, fear\, passion\, violence and the queer\, cold seas which roil and coil between nations. \nCustance\, who has beauty without pride\, youth without foolishness and strength without tyranny\, finds herself cast adrift at sea.  Forced to endure hostile lands and people\, and carve paths for herself among strange cultures\, the strongest of Chaucer’s heroines strings her strength across the oceans\, telling us what it is to love and to survive. \nSet among the eddies and currents of medieval romance\, classical mythology and English folk song\, this one-woman show tells a haunting\, visceral\, occasionally funny tale that will whirl round your senses\, lace your tongue with salt and take you across the sapphire-worked seas to walk with the creatures at the far edges of the map. \nThe story is told in the Edwardian drawing room of Bantock House.  The performance is one hour long and is suitable for ages 13 and up. \n 
URL:https://daisyblack.uk/event/broken-shells-at-wolverhampton-literature-festival/
LOCATION:Bantock House\, Finchfield Road\, Wolverhampton\, WV3 9LQ
CATEGORIES:Storytelling
END:VEVENT
END:VCALENDAR